BEGIN:VCALENDAR
VERSION:2.0
PRODID:-//162.43.112.17//NONSGML kigkonsult.se iCalcreator 2.26.9//
CALSCALE:GREGORIAN
METHOD:PUBLISH
X-FROM-URL:https://pianoclass-kaoru.com
X-WR-TIMEZONE:Asia/Tokyo
BEGIN:VTIMEZONE
TZID:Asia/Tokyo
X-LIC-LOCATION:Asia/Tokyo
BEGIN:STANDARD
DTSTART:19510909T010000
TZOFFSETFROM:+1000
TZOFFSETTO:+0900
TZNAME:JST
END:STANDARD
END:VTIMEZONE
BEGIN:VEVENT
UID:ai1ec-1266@pianoclass-kaoru.com
DTSTAMP:20260422T051346Z
CATEGORIES:
CONTACT:
DESCRIPTION:<div class='addtoany_share_save_container addtoany_content addt
 oany_content_bottom'><div class='a2a_kit a2a_kit_size_26 addtoany_list' da
 ta-a2a-url='https://pianoclass-kaoru.com/' data-a2a-title='トップページ'><a clas
 s='a2a_button_facebook' href='https://www.addtoany.com/add_to/facebook?lin
 kurl=https%3A%2F%2Fpianoclass-kaoru.com%2F&linkname=%E3%83%88%E3%83%83%E3%
 83%97%E3%83%9A%E3%83%BC%E3%82%B8' title='Facebook' rel='nofollow noopener'
  target='_blank'></a><a class='a2a_button_twitter' href='https://www.addto
 any.com/add_to/twitter?linkurl=https%3A%2F%2Fpianoclass-kaoru.com%2F&linkn
 ame=%E3%83%88%E3%83%83%E3%83%97%E3%83%9A%E3%83%BC%E3%82%B8' title='Twitter
 ' rel='nofollow noopener' target='_blank'></a><a class='a2a_button_line' h
 ref='https://www.addtoany.com/add_to/line?linkurl=https%3A%2F%2Fpianoclass
 -kaoru.com%2F&linkname=%E3%83%88%E3%83%83%E3%83%97%E3%83%9A%E3%83%BC%E3%82
 %B8' title='Line' rel='nofollow noopener' target='_blank'></a><a class='a2
 a_button_pinterest' href='https://www.addtoany.com/add_to/pinterest?linkur
 l=https%3A%2F%2Fpianoclass-kaoru.com%2F&linkname=%E3%83%88%E3%83%83%E3%83%
 97%E3%83%9A%E3%83%BC%E3%82%B8' title='Pinterest' rel='nofollow noopener' t
 arget='_blank'></a><a class='a2a_dd addtoany_share_save addtoany_share' hr
 ef='https://www.addtoany.com/share'></a></div></div>
DTSTART;TZID=Asia/Tokyo:20230430T130000
DTEND;TZID=Asia/Tokyo:20230430T180000
LOCATION:島村楽器葛西エンジョイホール
SEQUENCE:0
SUMMARY:音楽倶楽部Musicamore第10回Musicaffe
X-COST-TYPE:free
END:VEVENT
BEGIN:VEVENT
UID:ai1ec-1267@pianoclass-kaoru.com
DTSTAMP:20260422T051346Z
CATEGORIES:
CONTACT:
DESCRIPTION:<div class='addtoany_share_save_container addtoany_content addt
 oany_content_bottom'><div class='a2a_kit a2a_kit_size_26 addtoany_list' da
 ta-a2a-url='https://pianoclass-kaoru.com/' data-a2a-title='トップページ'><a clas
 s='a2a_button_facebook' href='https://www.addtoany.com/add_to/facebook?lin
 kurl=https%3A%2F%2Fpianoclass-kaoru.com%2F&linkname=%E3%83%88%E3%83%83%E3%
 83%97%E3%83%9A%E3%83%BC%E3%82%B8' title='Facebook' rel='nofollow noopener'
  target='_blank'></a><a class='a2a_button_twitter' href='https://www.addto
 any.com/add_to/twitter?linkurl=https%3A%2F%2Fpianoclass-kaoru.com%2F&linkn
 ame=%E3%83%88%E3%83%83%E3%83%97%E3%83%9A%E3%83%BC%E3%82%B8' title='Twitter
 ' rel='nofollow noopener' target='_blank'></a><a class='a2a_button_line' h
 ref='https://www.addtoany.com/add_to/line?linkurl=https%3A%2F%2Fpianoclass
 -kaoru.com%2F&linkname=%E3%83%88%E3%83%83%E3%83%97%E3%83%9A%E3%83%BC%E3%82
 %B8' title='Line' rel='nofollow noopener' target='_blank'></a><a class='a2
 a_button_pinterest' href='https://www.addtoany.com/add_to/pinterest?linkur
 l=https%3A%2F%2Fpianoclass-kaoru.com%2F&linkname=%E3%83%88%E3%83%83%E3%83%
 97%E3%83%9A%E3%83%BC%E3%82%B8' title='Pinterest' rel='nofollow noopener' t
 arget='_blank'></a><a class='a2a_dd addtoany_share_save addtoany_share' hr
 ef='https://www.addtoany.com/share'></a></div></div>
DTSTART;TZID=Asia/Tokyo:20231112T110000
DTEND;TZID=Asia/Tokyo:20231112T150000
LOCATION:ピアノカフェベヒシュタイン
SEQUENCE:0
SUMMARY:音楽倶楽部Musicamore第11回Musicaffe
X-COST-TYPE:free
END:VEVENT
BEGIN:VEVENT
UID:ai1ec-1268@pianoclass-kaoru.com
DTSTAMP:20260422T051346Z
CATEGORIES:
CONTACT:
DESCRIPTION:<div class='addtoany_share_save_container addtoany_content addt
 oany_content_bottom'><div class='a2a_kit a2a_kit_size_26 addtoany_list' da
 ta-a2a-url='https://pianoclass-kaoru.com/' data-a2a-title='トップページ'><a clas
 s='a2a_button_facebook' href='https://www.addtoany.com/add_to/facebook?lin
 kurl=https%3A%2F%2Fpianoclass-kaoru.com%2F&linkname=%E3%83%88%E3%83%83%E3%
 83%97%E3%83%9A%E3%83%BC%E3%82%B8' title='Facebook' rel='nofollow noopener'
  target='_blank'></a><a class='a2a_button_twitter' href='https://www.addto
 any.com/add_to/twitter?linkurl=https%3A%2F%2Fpianoclass-kaoru.com%2F&linkn
 ame=%E3%83%88%E3%83%83%E3%83%97%E3%83%9A%E3%83%BC%E3%82%B8' title='Twitter
 ' rel='nofollow noopener' target='_blank'></a><a class='a2a_button_line' h
 ref='https://www.addtoany.com/add_to/line?linkurl=https%3A%2F%2Fpianoclass
 -kaoru.com%2F&linkname=%E3%83%88%E3%83%83%E3%83%97%E3%83%9A%E3%83%BC%E3%82
 %B8' title='Line' rel='nofollow noopener' target='_blank'></a><a class='a2
 a_button_pinterest' href='https://www.addtoany.com/add_to/pinterest?linkur
 l=https%3A%2F%2Fpianoclass-kaoru.com%2F&linkname=%E3%83%88%E3%83%83%E3%83%
 97%E3%83%9A%E3%83%BC%E3%82%B8' title='Pinterest' rel='nofollow noopener' t
 arget='_blank'></a><a class='a2a_dd addtoany_share_save addtoany_share' hr
 ef='https://www.addtoany.com/share'></a></div></div>
DTSTART;TZID=Asia/Tokyo:20240317T123000
DTEND;TZID=Asia/Tokyo:20240317T173000
LOCATION:ショパンサロン
SEQUENCE:0
SUMMARY:音楽倶楽部Musicamore第12回Musicaffe
X-COST-TYPE:free
END:VEVENT
BEGIN:VEVENT
UID:ai1ec-1145@pianoclass-kaoru.com
DTSTAMP:20260422T051346Z
CATEGORIES;LANGUAGE=ja:コンサート情報
CONTACT:
DESCRIPTION:<p>小さなコンサート VOL.3開催致します♬</p>\n<p> </p>\n<p> </p>\n<div class='a
 ddtoany_share_save_container addtoany_content addtoany_content_bottom'><di
 v class='a2a_kit a2a_kit_size_26 addtoany_list' data-a2a-url='https://pian
 oclass-kaoru.com/' data-a2a-title='トップページ'><a class='a2a_button_facebook' 
 href='https://www.addtoany.com/add_to/facebook?linkurl=https%3A%2F%2Fpiano
 class-kaoru.com%2F&linkname=%E3%83%88%E3%83%83%E3%83%97%E3%83%9A%E3%83%BC%
 E3%82%B8' title='Facebook' rel='nofollow noopener' target='_blank'></a><a 
 class='a2a_button_twitter' href='https://www.addtoany.com/add_to/twitter?l
 inkurl=https%3A%2F%2Fpianoclass-kaoru.com%2F&linkname=%E3%83%88%E3%83%83%E
 3%83%97%E3%83%9A%E3%83%BC%E3%82%B8' title='Twitter' rel='nofollow noopener
 ' target='_blank'></a><a class='a2a_button_line' href='https://www.addtoan
 y.com/add_to/line?linkurl=https%3A%2F%2Fpianoclass-kaoru.com%2F&linkname=%
 E3%83%88%E3%83%83%E3%83%97%E3%83%9A%E3%83%BC%E3%82%B8' title='Line' rel='n
 ofollow noopener' target='_blank'></a><a class='a2a_button_pinterest' href
 ='https://www.addtoany.com/add_to/pinterest?linkurl=https%3A%2F%2Fpianocla
 ss-kaoru.com%2F&linkname=%E3%83%88%E3%83%83%E3%83%97%E3%83%9A%E3%83%BC%E3%
 82%B8' title='Pinterest' rel='nofollow noopener' target='_blank'></a><a cl
 ass='a2a_dd addtoany_share_save addtoany_share' href='https://www.addtoany
 .com/share'></a></div></div>
DTSTART;TZID=Asia/Tokyo:20240429T130000
SEQUENCE:0
SUMMARY:小さなコンサート　VOL.3
X-COST-TYPE:free
X-INSTANT-EVENT:1
END:VEVENT
BEGIN:VEVENT
UID:ai1ec-1269@pianoclass-kaoru.com
DTSTAMP:20260422T051346Z
CATEGORIES:
CONTACT:
DESCRIPTION:<div class='addtoany_share_save_container addtoany_content addt
 oany_content_bottom'><div class='a2a_kit a2a_kit_size_26 addtoany_list' da
 ta-a2a-url='https://pianoclass-kaoru.com/' data-a2a-title='トップページ'><a clas
 s='a2a_button_facebook' href='https://www.addtoany.com/add_to/facebook?lin
 kurl=https%3A%2F%2Fpianoclass-kaoru.com%2F&linkname=%E3%83%88%E3%83%83%E3%
 83%97%E3%83%9A%E3%83%BC%E3%82%B8' title='Facebook' rel='nofollow noopener'
  target='_blank'></a><a class='a2a_button_twitter' href='https://www.addto
 any.com/add_to/twitter?linkurl=https%3A%2F%2Fpianoclass-kaoru.com%2F&linkn
 ame=%E3%83%88%E3%83%83%E3%83%97%E3%83%9A%E3%83%BC%E3%82%B8' title='Twitter
 ' rel='nofollow noopener' target='_blank'></a><a class='a2a_button_line' h
 ref='https://www.addtoany.com/add_to/line?linkurl=https%3A%2F%2Fpianoclass
 -kaoru.com%2F&linkname=%E3%83%88%E3%83%83%E3%83%97%E3%83%9A%E3%83%BC%E3%82
 %B8' title='Line' rel='nofollow noopener' target='_blank'></a><a class='a2
 a_button_pinterest' href='https://www.addtoany.com/add_to/pinterest?linkur
 l=https%3A%2F%2Fpianoclass-kaoru.com%2F&linkname=%E3%83%88%E3%83%83%E3%83%
 97%E3%83%9A%E3%83%BC%E3%82%B8' title='Pinterest' rel='nofollow noopener' t
 arget='_blank'></a><a class='a2a_dd addtoany_share_save addtoany_share' hr
 ef='https://www.addtoany.com/share'></a></div></div>
DTSTART;TZID=Asia/Tokyo:20241027T130000
DTEND;TZID=Asia/Tokyo:20241027T170000
LOCATION:パシュタート
SEQUENCE:0
SUMMARY:音楽倶楽部Musicamore第13回Musicaffe
X-COST-TYPE:free
END:VEVENT
BEGIN:VEVENT
UID:ai1ec-1270@pianoclass-kaoru.com
DTSTAMP:20260422T051346Z
CATEGORIES:
CONTACT:
DESCRIPTION:<div class='addtoany_share_save_container addtoany_content addt
 oany_content_bottom'><div class='a2a_kit a2a_kit_size_26 addtoany_list' da
 ta-a2a-url='https://pianoclass-kaoru.com/' data-a2a-title='トップページ'><a clas
 s='a2a_button_facebook' href='https://www.addtoany.com/add_to/facebook?lin
 kurl=https%3A%2F%2Fpianoclass-kaoru.com%2F&linkname=%E3%83%88%E3%83%83%E3%
 83%97%E3%83%9A%E3%83%BC%E3%82%B8' title='Facebook' rel='nofollow noopener'
  target='_blank'></a><a class='a2a_button_twitter' href='https://www.addto
 any.com/add_to/twitter?linkurl=https%3A%2F%2Fpianoclass-kaoru.com%2F&linkn
 ame=%E3%83%88%E3%83%83%E3%83%97%E3%83%9A%E3%83%BC%E3%82%B8' title='Twitter
 ' rel='nofollow noopener' target='_blank'></a><a class='a2a_button_line' h
 ref='https://www.addtoany.com/add_to/line?linkurl=https%3A%2F%2Fpianoclass
 -kaoru.com%2F&linkname=%E3%83%88%E3%83%83%E3%83%97%E3%83%9A%E3%83%BC%E3%82
 %B8' title='Line' rel='nofollow noopener' target='_blank'></a><a class='a2
 a_button_pinterest' href='https://www.addtoany.com/add_to/pinterest?linkur
 l=https%3A%2F%2Fpianoclass-kaoru.com%2F&linkname=%E3%83%88%E3%83%83%E3%83%
 97%E3%83%9A%E3%83%BC%E3%82%B8' title='Pinterest' rel='nofollow noopener' t
 arget='_blank'></a><a class='a2a_dd addtoany_share_save addtoany_share' hr
 ef='https://www.addtoany.com/share'></a></div></div>
DTSTART;TZID=Asia/Tokyo:20250223T130000
DTEND;TZID=Asia/Tokyo:20250223T170000
LOCATION:ミュージックギャラリーアリエッタ
SEQUENCE:0
SUMMARY:音楽倶楽部Musicamore第14回Musicaffe
X-COST-TYPE:free
END:VEVENT
BEGIN:VEVENT
UID:ai1ec-1271@pianoclass-kaoru.com
DTSTAMP:20260422T051346Z
CATEGORIES:
CONTACT:
DESCRIPTION:<div class='addtoany_share_save_container addtoany_content addt
 oany_content_bottom'><div class='a2a_kit a2a_kit_size_26 addtoany_list' da
 ta-a2a-url='https://pianoclass-kaoru.com/' data-a2a-title='トップページ'><a clas
 s='a2a_button_facebook' href='https://www.addtoany.com/add_to/facebook?lin
 kurl=https%3A%2F%2Fpianoclass-kaoru.com%2F&linkname=%E3%83%88%E3%83%83%E3%
 83%97%E3%83%9A%E3%83%BC%E3%82%B8' title='Facebook' rel='nofollow noopener'
  target='_blank'></a><a class='a2a_button_twitter' href='https://www.addto
 any.com/add_to/twitter?linkurl=https%3A%2F%2Fpianoclass-kaoru.com%2F&linkn
 ame=%E3%83%88%E3%83%83%E3%83%97%E3%83%9A%E3%83%BC%E3%82%B8' title='Twitter
 ' rel='nofollow noopener' target='_blank'></a><a class='a2a_button_line' h
 ref='https://www.addtoany.com/add_to/line?linkurl=https%3A%2F%2Fpianoclass
 -kaoru.com%2F&linkname=%E3%83%88%E3%83%83%E3%83%97%E3%83%9A%E3%83%BC%E3%82
 %B8' title='Line' rel='nofollow noopener' target='_blank'></a><a class='a2
 a_button_pinterest' href='https://www.addtoany.com/add_to/pinterest?linkur
 l=https%3A%2F%2Fpianoclass-kaoru.com%2F&linkname=%E3%83%88%E3%83%83%E3%83%
 97%E3%83%9A%E3%83%BC%E3%82%B8' title='Pinterest' rel='nofollow noopener' t
 arget='_blank'></a><a class='a2a_dd addtoany_share_save addtoany_share' hr
 ef='https://www.addtoany.com/share'></a></div></div>
DTSTART;TZID=Asia/Tokyo:20250720T130000
DTEND;TZID=Asia/Tokyo:20250720T153000
LOCATION:上野駅前ホール
SEQUENCE:0
SUMMARY:音楽倶楽部Musicamore第15回Musicaffe
X-COST-TYPE:free
END:VEVENT
BEGIN:VEVENT
UID:ai1ec-1265@pianoclass-kaoru.com
DTSTAMP:20260422T051346Z
CATEGORIES:
CONTACT:
DESCRIPTION:<div class='addtoany_share_save_container addtoany_content addt
 oany_content_bottom'><div class='a2a_kit a2a_kit_size_26 addtoany_list' da
 ta-a2a-url='https://pianoclass-kaoru.com/' data-a2a-title='トップページ'><a clas
 s='a2a_button_facebook' href='https://www.addtoany.com/add_to/facebook?lin
 kurl=https%3A%2F%2Fpianoclass-kaoru.com%2F&linkname=%E3%83%88%E3%83%83%E3%
 83%97%E3%83%9A%E3%83%BC%E3%82%B8' title='Facebook' rel='nofollow noopener'
  target='_blank'></a><a class='a2a_button_twitter' href='https://www.addto
 any.com/add_to/twitter?linkurl=https%3A%2F%2Fpianoclass-kaoru.com%2F&linkn
 ame=%E3%83%88%E3%83%83%E3%83%97%E3%83%9A%E3%83%BC%E3%82%B8' title='Twitter
 ' rel='nofollow noopener' target='_blank'></a><a class='a2a_button_line' h
 ref='https://www.addtoany.com/add_to/line?linkurl=https%3A%2F%2Fpianoclass
 -kaoru.com%2F&linkname=%E3%83%88%E3%83%83%E3%83%97%E3%83%9A%E3%83%BC%E3%82
 %B8' title='Line' rel='nofollow noopener' target='_blank'></a><a class='a2
 a_button_pinterest' href='https://www.addtoany.com/add_to/pinterest?linkur
 l=https%3A%2F%2Fpianoclass-kaoru.com%2F&linkname=%E3%83%88%E3%83%83%E3%83%
 97%E3%83%9A%E3%83%BC%E3%82%B8' title='Pinterest' rel='nofollow noopener' t
 arget='_blank'></a><a class='a2a_dd addtoany_share_save addtoany_share' hr
 ef='https://www.addtoany.com/share'></a></div></div>
DTSTART;TZID=Asia/Tokyo:20251019T013000
DTEND;TZID=Asia/Tokyo:20251019T033000
SEQUENCE:0
SUMMARY:ハロウィンパーティ🎃
X-COST-TYPE:free
END:VEVENT
END:VCALENDAR
